BEGIN:VCALENDAR
VERSION:2.0
PRODID:-// - ECPv6.15.20//NONSGML v1.0//EN
CALSCALE:GREGORIAN
METHOD:PUBLISH
X-ORIGINAL-URL:https://internationalclematissociety.org
X-WR-CALDESC:Events for 
REFRESH-INTERVAL;VALUE=DURATION:PT1H
X-Robots-Tag:noindex
X-PUBLISHED-TTL:PT1H
BEGIN:VTIMEZONE
TZID:America/New_York
BEGIN:DAYLIGHT
TZOFFSETFROM:-0500
TZOFFSETTO:-0400
TZNAME:EDT
DTSTART:20240310T070000
END:DAYLIGHT
BEGIN:STANDARD
TZOFFSETFROM:-0400
TZOFFSETTO:-0500
TZNAME:EST
DTSTART:20241103T060000
END:STANDARD
BEGIN:DAYLIGHT
TZOFFSETFROM:-0500
TZOFFSETTO:-0400
TZNAME:EDT
DTSTART:20250309T070000
END:DAYLIGHT
BEGIN:STANDARD
TZOFFSETFROM:-0400
TZOFFSETTO:-0500
TZNAME:EST
DTSTART:20251102T060000
END:STANDARD
BEGIN:DAYLIGHT
TZOFFSETFROM:-0500
TZOFFSETTO:-0400
TZNAME:EDT
DTSTART:20260308T070000
END:DAYLIGHT
BEGIN:STANDARD
TZOFFSETFROM:-0400
TZOFFSETTO:-0500
TZNAME:EST
DTSTART:20261101T060000
END:STANDARD
END:VTIMEZONE
BEGIN:VEVENT
DTSTART;TZID=America/New_York:20250302T120000
DTEND;TZID=America/New_York:20250302T130000
DTSTAMP:20260423T143207
CREATED:20250209T211233Z
LAST-MODIFIED:20250209T212041Z
UID:3193-1740916800-1740920400@internationalclematissociety.org
SUMMARY:Public Webinar - "Anyone Can Grow Clematis!"
DESCRIPTION:Presenters:  Linda Beutler (U.S.) and Ken Black (U.K.) \nLet’s fight the tendency to make growing clematis more complicated than it is. We will show you how to select a healthy specimen and find a good place for it in your garden. Step-by-step planting instructions come next\, and then some simple\, common-sense advice about pruning. Expect a lot of lovely pictures of clematis grown with companions along the way. Linda Beutler\, the curator for the Rogerson Clematis Garden in Oregon\, US\, and Ken Black\, UK\, clematis enthusiast and speaker\, will discuss all aspects of clematis care for beginners (and those who want to do better!)\, including: \n\nhow and when to plant\,\nsiting clematis in the garden\,\nfertilization\,\npruning\,\nmulching\, and\nmore.
URL:https://internationalclematissociety.org/event/public-webinar-anyone-can-grow-clematis/
CATEGORIES:Public Webinars
END:VEVENT
END:VCALENDAR