BEGIN:VCALENDAR
VERSION:2.0
PRODID:-// - ECPv6.15.20//NONSGML v1.0//EN
CALSCALE:GREGORIAN
METHOD:PUBLISH
X-ORIGINAL-URL:https://internationalclematissociety.org
X-WR-CALDESC:Events for 
REFRESH-INTERVAL;VALUE=DURATION:PT1H
X-Robots-Tag:noindex
X-PUBLISHED-TTL:PT1H
BEGIN:VTIMEZONE
TZID:America/New_York
BEGIN:DAYLIGHT
TZOFFSETFROM:-0500
TZOFFSETTO:-0400
TZNAME:EDT
DTSTART:20240310T070000
END:DAYLIGHT
BEGIN:STANDARD
TZOFFSETFROM:-0400
TZOFFSETTO:-0500
TZNAME:EST
DTSTART:20241103T060000
END:STANDARD
BEGIN:DAYLIGHT
TZOFFSETFROM:-0500
TZOFFSETTO:-0400
TZNAME:EDT
DTSTART:20250309T070000
END:DAYLIGHT
BEGIN:STANDARD
TZOFFSETFROM:-0400
TZOFFSETTO:-0500
TZNAME:EST
DTSTART:20251102T060000
END:STANDARD
BEGIN:DAYLIGHT
TZOFFSETFROM:-0500
TZOFFSETTO:-0400
TZNAME:EDT
DTSTART:20260308T070000
END:DAYLIGHT
BEGIN:STANDARD
TZOFFSETFROM:-0400
TZOFFSETTO:-0500
TZNAME:EST
DTSTART:20261101T060000
END:STANDARD
END:VTIMEZONE
BEGIN:VEVENT
DTSTART;TZID=America/New_York:20250314T120000
DTEND;TZID=America/New_York:20250314T140000
DTSTAMP:20260423T112245
CREATED:20250203T064717Z
LAST-MODIFIED:20250210T063741Z
UID:3042-1741953600-1741960800@internationalclematissociety.org
SUMMARY:Eastern US Native Clematis Research Gardens
DESCRIPTION:This webinar is for Society Members only. \nSarah Wellman\, US\, is a volunteer at the Southeastern Grassland Institute\, U.S.A. She is the chief steward for the native clematis research garden. She will describe this garden\, with photos and details of some new species within the Clematis viorna group. She’ll also talk about the challenges of maintaining rare and valuable species within uncontrolled natural settings. To be held on Friday March 14th at 12:00 PM Eastern Time \nZoom Link: https://swarthmore.zoom.us/j/89193233968
URL:https://internationalclematissociety.org/event/eastern-us-native-clematis-research-gardens/
CATEGORIES:Webinar
END:VEVENT
BEGIN:VEVENT
DTSTART;TZID=America/New_York:20250302T120000
DTEND;TZID=America/New_York:20250302T130000
DTSTAMP:20260423T112245
CREATED:20250209T211233Z
LAST-MODIFIED:20250209T212041Z
UID:3193-1740916800-1740920400@internationalclematissociety.org
SUMMARY:Public Webinar - "Anyone Can Grow Clematis!"
DESCRIPTION:Presenters:  Linda Beutler (U.S.) and Ken Black (U.K.) \nLet’s fight the tendency to make growing clematis more complicated than it is. We will show you how to select a healthy specimen and find a good place for it in your garden. Step-by-step planting instructions come next\, and then some simple\, common-sense advice about pruning. Expect a lot of lovely pictures of clematis grown with companions along the way. Linda Beutler\, the curator for the Rogerson Clematis Garden in Oregon\, US\, and Ken Black\, UK\, clematis enthusiast and speaker\, will discuss all aspects of clematis care for beginners (and those who want to do better!)\, including: \n\nhow and when to plant\,\nsiting clematis in the garden\,\nfertilization\,\npruning\,\nmulching\, and\nmore.
URL:https://internationalclematissociety.org/event/public-webinar-anyone-can-grow-clematis/
CATEGORIES:Public Webinars
END:VEVENT
BEGIN:VEVENT
DTSTART;TZID=America/New_York:20250122T120000
DTEND;TZID=America/New_York:20250122T140000
DTSTAMP:20260423T112245
CREATED:20250203T064430Z
LAST-MODIFIED:20250203T064430Z
UID:3039-1737547200-1737554400@internationalclematissociety.org
SUMMARY:"A Photographer's Journey"
DESCRIPTION:An illustrated talk about the Society Meeting and Event in the Loire Valley\, France\, in 2024\, given by Mike Warren\, UK\, Society member for many years and a professional photographer\, albeit now retired. It attracted nearly 20% of the membership.
URL:https://internationalclematissociety.org/event/a-photographers-journey/
CATEGORIES:Webinar
ORGANIZER;CN="Agnes Kwan":MAILTO:webmaster@clematisontheweb.org
END:VEVENT
END:VCALENDAR